BEGIN:VCALENDAR
VERSION:2.0
PRODID:-//www.lonm.org//NONSGML kigkonsult.se iCalcreator 2.30.10//
CALSCALE:GREGORIAN
METHOD:PUBLISH
UID:39d60ccd-6754-4a50-8ddf-13491ebc8490
X-WR-CALDESC:League Legislative Committee Members: \n\nThe third meeting of
  the League Legislative Committees will be Friday\, November 3. The Larger
  Cities Legislative Committee will meet from 9 a.m. to 12 p.m. with lunch 
 served at the League office from 12-1 p.m. for both Legislative Committees
 . Although the League does not reimburse committee members for expenses in
 curred in attending the League Legislative meetings\, we once again invite
  you to be our guest for lunch.\n\nThank you!\n\nLynn Rex\, Christy Abraha
 m and Lash Chaffin\nLeague of Nebraska Municipalities\n1335 L Street\nLinc
 oln\, NE 68508\nPhone: 402-476-2829\nFax: 402-476-7052\n
X-WR-RELCALID:5d1b278b9f7d9d67e25ed448f2efd26a
X-WR-TIMEZONE:America/Chicago
BEGIN:VTIMEZONE
TZID:America/Chicago
BEGIN:STANDARD
TZNAME:CST
DTSTART:20161106T020000
TZOFFSETFROM:-0500
TZOFFSETTO:-0600
RDATE:20171105T020000
RDATE:20181104T020000
END:STANDARD
BEGIN:DAYLIGHT
TZNAME:CDT
DTSTART:20170312T020000
TZOFFSETFROM:-0600
TZOFFSETTO:-0500
RDATE:20180311T020000
RDATE:20190310T020000
END:DAYLIGHT
END:VTIMEZONE
BEGIN:VEVENT
UID:b2b64308-8a89-4e43-902e-18cb957680dc
DTSTAMP:20260421T213441Z
DESCRIPTION:League Legislative Committee Members: \n\nThe third meeting of 
 the League Legislative Committees will be Friday\, November 3. The Larger 
 Cities Legislative Committee will meet from 9 a.m. to 12 p.m. with lunch s
 erved at the League office from 12-1 p.m. for both Legislative Committees.
  Although the League does not reimburse committee members for expenses inc
 urred in attending the League Legislative meetings\, we once again invite 
 you to be our guest for lunch.\n\nThank you!\n\nLynn Rex\, Christy Abraham
  and Lash Chaffin\nLeague of Nebraska Municipalities\n1335 L Street\nLinco
 ln\, NE 68508\nPhone: 402-476-2829\nFax: 402-476-7052\n
DTSTART;TZID=America/Chicago:20171103T090000
DTEND;TZID=America/Chicago:20171103T120000
LOCATION:League Office Building\, Joe Hampton Conference Center\, 1335 L St
 reet\, Lincoln
SUMMARY:Larger Cities Legislative Committee (LCLC)
END:VEVENT
END:VCALENDAR
