BEGIN:VCALENDAR
VERSION:2.0
PRODID:-//www.lonm.org//NONSGML kigkonsult.se iCalcreator 2.30.10//
CALSCALE:GREGORIAN
METHOD:PUBLISH
UID:64c5defd-5bd9-477e-ba84-a3523dd6d01f
X-WR-CALDESC:Hastings Airport Terminal Building\n3300 West 12th\nHastings\,
  NE\n\nWho Should Attend: Solid waste employees working at transfer statio
 ns\, landfills\, gate houses\, recycling centers and all other related dep
 artments or facilities.  The refresher on waste screening and hazardous ma
 terials identification meets Nebraska’s requirements for transfer station 
 and landfill employees. We also would encourage attendance of all municipa
 l officials who would like more information concerning the solid waste and
  recycling industry.\n\nRegistration and Fee\nParticipants are encouraged 
 to register at least one week prior to the workshop date so a count for me
 als and handouts can be accommodated.  Registration also will be available
  at the door on location of the workshop. Fee for the workshop is $50 per 
 person\, which includes lunch and learning materials. Fee may be prepaid o
 r direct billed.  To use the direct billing option\, simply fill out a reg
 istration form and we will bill you or your municipality. We encourage thi
 s billing option because storms may increase the risk of cancellation.
X-WR-RELCALID:98349415e5b9a8ada98fdfd794ed7325
X-WR-TIMEZONE:America/Chicago
BEGIN:VTIMEZONE
TZID:America/Chicago
BEGIN:STANDARD
TZNAME:CST
DTSTART:20171105T020000
TZOFFSETFROM:-0500
TZOFFSETTO:-0600
RDATE:20181104T020000
END:STANDARD
BEGIN:DAYLIGHT
TZNAME:CDT
DTSTART:20170312T020000
TZOFFSETFROM:-0600
TZOFFSETTO:-0500
RDATE:20180311T020000
RDATE:20190310T020000
END:DAYLIGHT
END:VTIMEZONE
BEGIN:VEVENT
UID:b3e47e43-eb5c-45f7-b7c6-b0e47e63bc14
DTSTAMP:20260422T013614Z
DESCRIPTION:Hastings Airport Terminal Building\n3300 West 12th\nHastings\, 
 NE\n\nWho Should Attend: Solid waste employees working at transfer station
 s\, landfills\, gate houses\, recycling centers and all other related depa
 rtments or facilities.  The refresher on waste screening and hazardous mat
 erials identification meets Nebraska’s requirements for transfer station a
 nd landfill employees. We also would encourage attendance of all municipal
  officials who would like more information concerning the solid waste and 
 recycling industry.\n\nRegistration and Fee\nParticipants are encouraged t
 o register at least one week prior to the workshop date so a count for mea
 ls and handouts can be accommodated.  Registration also will be available 
 at the door on location of the workshop. Fee for the workshop is $50 per p
 erson\, which includes lunch and learning materials. Fee may be prepaid or
  direct billed.  To use the direct billing option\, simply fill out a regi
 stration form and we will bill you or your municipality. We encourage this
  billing option because storms may increase the risk of cancellation.
DTSTART;TZID=America/Chicago:20180130T083000
DTEND;TZID=America/Chicago:20180130T160000
LOCATION:
SUMMARY:Solid Waste Screening for Transfer Station and Landfill Operations 
 Workshop-Hastings
END:VEVENT
END:VCALENDAR
