BEGIN:VCALENDAR
VERSION:2.0
PRODID:-//www.lonm.org//NONSGML kigkonsult.se iCalcreator 2.30.10//
CALSCALE:GREGORIAN
METHOD:PUBLISH
UID:a610ad01-6973-4b59-affd-6aad6cd08f11
X-WR-CALDESC:
X-WR-RELCALID:99174a3c8c448511b2497411e0969548
X-WR-TIMEZONE:America/Chicago
BEGIN:VTIMEZONE
TZID:America/Chicago
BEGIN:STANDARD
TZNAME:CST
DTSTART:20181104T020000
TZOFFSETFROM:-0500
TZOFFSETTO:-0600
RDATE:20191103T020000
END:STANDARD
BEGIN:DAYLIGHT
TZNAME:CDT
DTSTART:20180311T020000
TZOFFSETFROM:-0600
TZOFFSETTO:-0500
RDATE:20190310T020000
RDATE:20200308T020000
END:DAYLIGHT
END:VTIMEZONE
BEGIN:VEVENT
UID:47f1a8fe-ad00-4b4e-a74b-a6208dfb7c62
DTSTAMP:20260422T040835Z
DESCRIPTION:
DTSTART;TZID=America/Chicago:20190116T080000
DTEND;TZID=America/Chicago:20190118T120000
LOCATION:Embassy Suites\, Lincoln\, NE
SUMMARY:Utilities/Public Works Section Annual Conference\, Embassy Suites\,
  Lincoln - DELEGATES
END:VEVENT
END:VCALENDAR
