BEGIN:VCALENDAR
VERSION:2.0
PRODID:-//www.lonm.org//NONSGML kigkonsult.se iCalcreator 2.30.10//
CALSCALE:GREGORIAN
METHOD:PUBLISH
UID:36e0abaf-2f07-46f7-8996-593db4eea25a
X-WR-CALDESC:**PLEASE NOTE**\n**ALL ONLINE REGISTRATIONS WILL BE CHARGED A 
 PROCESSING FEE THAT WILL BE ADDED TO YOUR EVENT REGISTRATION TOTAL.  THIS 
 FEE WILL BE ADDED FOR EVERY EVENT REGISTRATION PROCESSED ONLINE**\n\n\n\nD
 esigned for elected or appointed officials\, the focus of the 2018 Midwint
 er Conference will be current and proposed legislation and how it affects 
 local governments. A highlight of the two-day conference will be a state S
 enators appreciation luncheon\, which offers municipal officials an opport
 unity to meet and visit with their state Senators.\n
X-WR-RELCALID:009515cf7fb458ec334229dcefc48b62
X-WR-TIMEZONE:America/Chicago
BEGIN:VTIMEZONE
TZID:America/Chicago
BEGIN:STANDARD
TZNAME:CST
DTSTART:20181104T020000
TZOFFSETFROM:-0500
TZOFFSETTO:-0600
RDATE:20191103T020000
END:STANDARD
BEGIN:DAYLIGHT
TZNAME:CDT
DTSTART:20180311T020000
TZOFFSETFROM:-0600
TZOFFSETTO:-0500
RDATE:20190310T020000
RDATE:20200308T020000
END:DAYLIGHT
END:VTIMEZONE
BEGIN:VEVENT
UID:a57d029d-bcc9-4730-93c3-c5fa4c6b6a68
DTSTAMP:20260419T174217Z
DESCRIPTION:**PLEASE NOTE**\n**ALL ONLINE REGISTRATIONS WILL BE CHARGED A P
 ROCESSING FEE THAT WILL BE ADDED TO YOUR EVENT REGISTRATION TOTAL.  THIS F
 EE WILL BE ADDED FOR EVERY EVENT REGISTRATION PROCESSED ONLINE**\n\n\n\nDe
 signed for elected or appointed officials\, the focus of the 2018 Midwinte
 r Conference will be current and proposed legislation and how it affects l
 ocal governments. A highlight of the two-day conference will be a state Se
 nators appreciation luncheon\, which offers municipal officials an opportu
 nity to meet and visit with their state Senators.\n
DTSTART;TZID=America/Chicago:20190225T080000
DTEND;TZID=America/Chicago:20190226T133000
LOCATION:Cornhusker Marriott Hotel\, Lincoln NE\, 68508
SUMMARY:Midwinter Conference DELEGATE Registration-Lincoln
END:VEVENT
END:VCALENDAR
