BEGIN:VCALENDAR
VERSION:2.0
PRODID:-//www.lonm.org//NONSGML kigkonsult.se iCalcreator 2.30.10//
CALSCALE:GREGORIAN
METHOD:PUBLISH
UID:b79600be-d47b-4c12-b403-5e8bacb49406
X-WR-CALDESC:<b>Steps and Guidelines to Drilling a New Water Well: </b>\n<i
 >Brad Harris\, Layne</i>\n\n<font color='#FF0000'>(Approved for 1.5 hour g
 rades 1-4 and 1.5 hour wastewater)</font>\n\n\nThe NS-AWWA/League Water Op
 erator's Training Workshops are designed for all water operators who are d
 edicated to the water industry by keeping in stride with the latest in wat
 er industry regulations and technology. We also encourage attendance of al
 l city officials such as city council members\, board members and superint
 endents in order to gain knowledge about the rapidly changing industry. \n
 \nRegistration and Fee\n\n<u>Fees for the workshop are:</u>\n$35 per perso
 n for NS-AWWA/League/Utilities members\n$45 for non-members. \nFee may be 
 prepaid or directly billed. To use the direct billing option\, simply fill
  out a registration form and we will bill you or your municipality.
X-WR-RELCALID:4343d57eebf96be6d42a41216997f880
X-WR-TIMEZONE:America/Chicago
BEGIN:VTIMEZONE
TZID:America/Chicago
BEGIN:STANDARD
TZNAME:CST
DTSTART:20191103T020000
TZOFFSETFROM:-0500
TZOFFSETTO:-0600
RDATE:20201101T020000
RDATE:20211107T020000
END:STANDARD
BEGIN:DAYLIGHT
TZNAME:CDT
DTSTART:20200308T020000
TZOFFSETFROM:-0600
TZOFFSETTO:-0500
RDATE:20210314T020000
END:DAYLIGHT
END:VTIMEZONE
BEGIN:VEVENT
UID:e6b26e44-7473-4324-a94e-e13fa9d28e33
DTSTAMP:20260422T133056Z
DESCRIPTION:<b>Steps and Guidelines to Drilling a New Water Well: </b>\n<i>
 Brad Harris\, Layne</i>\n\n<font color='#FF0000'>(Approved for 1.5 hour gr
 ades 1-4 and 1.5 hour wastewater)</font>\n\n\nThe NS-AWWA/League Water Ope
 rator's Training Workshops are designed for all water operators who are de
 dicated to the water industry by keeping in stride with the latest in wate
 r industry regulations and technology. We also encourage attendance of all
  city officials such as city council members\, board members and superinte
 ndents in order to gain knowledge about the rapidly changing industry. \n
 \nRegistration and Fee\n\n<u>Fees for the workshop are:</u>\n$35 per perso
 n for NS-AWWA/League/Utilities members\n$45 for non-members. \nFee may be 
 prepaid or directly billed. To use the direct billing option\, simply fill
  out a registration form and we will bill you or your municipality.
DTSTART;TZID=America/Chicago:20200827T130000
DTEND;TZID=America/Chicago:20200827T143000
LOCATION:Web based
SUMMARY:Water Operator Training Webinar
END:VEVENT
END:VCALENDAR
