BEGIN:VCALENDAR
VERSION:2.0
PRODID:-//www.lonm.org//NONSGML kigkonsult.se iCalcreator 2.30.10//
CALSCALE:GREGORIAN
METHOD:PUBLISH
UID:3610e5e4-8a35-4d7c-aa33-c987857fb479
X-WR-CALDESC:<b>Pump Application\, Operations & Maintenace: </b>\n<i>Brad H
 arris\, Account Manager Water Resources\, Layne Christensen</i>\n\n<font c
 olor='#FF0000'>(Approved for 1 hour grades 1-4 and 1 hour wastewater)</fon
 t>\n\n\nThe NS-AWWA/League Water Operator's Training Workshops are designe
 d for all water operators who are dedicated to the water industry by keepi
 ng in stride with the latest in water industry regulations and technology.
  We also encourage attendance of all city officials such as city council m
 embers\, board members and superintendents in order to gain knowledge abou
 t the rapidly changing industry. \n\nRegistration and Fee\n\n<u>Fees for t
 he workshop are:</u>\n$35 per person for NS-AWWA/League/Utilities members
 \n$45 for non-members. \nFee may be prepaid or directly billed. To use the
  direct billing option\, simply fill out a registration form and we will b
 ill you or your municipality.
X-WR-RELCALID:2a50aa34b7f8faa2ea6fb3a7a7929321
X-WR-TIMEZONE:America/Chicago
BEGIN:VTIMEZONE
TZID:America/Chicago
BEGIN:STANDARD
TZNAME:CST
DTSTART:20191103T020000
TZOFFSETFROM:-0500
TZOFFSETTO:-0600
RDATE:20201101T020000
RDATE:20211107T020000
END:STANDARD
BEGIN:DAYLIGHT
TZNAME:CDT
DTSTART:20200308T020000
TZOFFSETFROM:-0600
TZOFFSETTO:-0500
RDATE:20210314T020000
RDATE:20220313T020000
END:DAYLIGHT
END:VTIMEZONE
BEGIN:VEVENT
UID:ffa48b20-db9e-4782-9531-316f8585102f
DTSTAMP:20260423T082848Z
DESCRIPTION:<b>Pump Application\, Operations & Maintenace: </b>\n<i>Brad Ha
 rris\, Account Manager Water Resources\, Layne Christensen</i>\n\n<font co
 lor='#FF0000'>(Approved for 1 hour grades 1-4 and 1 hour wastewater)</font
 >\n\n\nThe NS-AWWA/League Water Operator's Training Workshops are designed
  for all water operators who are dedicated to the water industry by keepin
 g in stride with the latest in water industry regulations and technology. 
 We also encourage attendance of all city officials such as city council me
 mbers\, board members and superintendents in order to gain knowledge about
  the rapidly changing industry. \n\nRegistration and Fee\n\n<u>Fees for th
 e workshop are:</u>\n$35 per person for NS-AWWA/League/Utilities members\n
 $45 for non-members. \nFee may be prepaid or directly billed. To use the d
 irect billing option\, simply fill out a registration form and we will bil
 l you or your municipality.
DTSTART;TZID=America/Chicago:20200929T110000
DTEND;TZID=America/Chicago:20200929T120000
LOCATION:Web based
SUMMARY:Water Operator Training Webinar
END:VEVENT
END:VCALENDAR
