BEGIN:VCALENDAR
VERSION:2.0
PRODID:-//www.lonm.org//NONSGML kigkonsult.se iCalcreator 2.30.10//
CALSCALE:GREGORIAN
METHOD:PUBLISH
UID:1645bad4-5e59-4d7d-be2b-0b5eba83754b
X-WR-CALDESC:If <u>paying by credit card</u>\, click the yellow 'Register H
 ere With Credit Card!' button in the upper right of your screen.\n\nIf you
  wish to <i>pay by check</i>\, please use the link below to print the regi
 stration form to email or fax to our office.\n\n<b><font color='#FF0000'><
 i>During the session\, polls/survey(s) must be completed to receive credit
 .</i></font>\n\n--Approved for 1 hour grades 1-4 and 1 hour wastewater --<
 /b>
X-WR-RELCALID:a36d13c4cc01047a84a53180d9330a18
X-WR-TIMEZONE:America/Chicago
BEGIN:VTIMEZONE
TZID:America/Chicago
BEGIN:STANDARD
TZNAME:CST
DTSTART:20201101T020000
TZOFFSETFROM:-0500
TZOFFSETTO:-0600
RDATE:20211107T020000
END:STANDARD
BEGIN:DAYLIGHT
TZNAME:CDT
DTSTART:20200308T020000
TZOFFSETFROM:-0600
TZOFFSETTO:-0500
RDATE:20210314T020000
RDATE:20220313T020000
END:DAYLIGHT
END:VTIMEZONE
BEGIN:VEVENT
UID:49db3abf-d956-449b-8815-eb7bdae334a3
DTSTAMP:20260420T223908Z
DESCRIPTION:If <u>paying by credit card</u>\, click the yellow 'Register He
 re With Credit Card!' button in the upper right of your screen.\n\nIf you 
 wish to <i>pay by check</i>\, please use the link below to print the regis
 tration form to email or fax to our office.\n\n<b><font color='#FF0000'><i
 >During the session\, polls/survey(s) must be completed to receive credit.
 </i></font>\n\n--Approved for 1 hour grades 1-4 and 1 hour wastewater --</
 b>
DTSTART;TZID=America/Chicago:20201119T150000
DTEND;TZID=America/Chicago:20201119T160000
LOCATION:Web based
SUMMARY:Safety 'JASON' Slips\, Trips and Falls
END:VEVENT
END:VCALENDAR
