BEGIN:VCALENDAR
VERSION:2.0
PRODID:-//www.lonm.org//NONSGML kigkonsult.se iCalcreator 2.30.10//
CALSCALE:GREGORIAN
METHOD:PUBLISH
UID:777573a7-7061-47d1-a744-fb65f45b83db
X-WR-CALDESC:These League Water Operator's Training Workshops are designed 
 for all water and wastewater operators who are dedicated to the water indu
 stry by keeping in stride with the latest in water/wastewater industry reg
 ulations and technology. We also would encourage attendance of all city of
 ficials such as city council members\, board members\, superintendents\, e
 tc.\, in order to gain further knowledge about the rapidly changing indust
 ry. \n\nCredit toward recertification for Grades 1-4 water operators – 5 h
 ours\, Grade 6 operators – 1 hour and wastewater operators – 5 hours for a
 ttending a day-long seminar.\n\nRegistration and Fees\n\nParticipants are 
 welcome to register and pay online before attending the workshop. Fees for
  the workshops are $55 per person\, which includes lunch and learning  mat
 erials.
X-WR-RELCALID:e8937dbcde4a05ee798e5075e002113a
X-WR-TIMEZONE:America/Chicago
BEGIN:VTIMEZONE
TZID:America/Chicago
BEGIN:STANDARD
TZNAME:CST
DTSTART:20221106T020000
TZOFFSETFROM:-0500
TZOFFSETTO:-0600
RDATE:20231105T020000
END:STANDARD
BEGIN:DAYLIGHT
TZNAME:CDT
DTSTART:20220313T020000
TZOFFSETFROM:-0600
TZOFFSETTO:-0500
RDATE:20230312T020000
RDATE:20240310T020000
END:DAYLIGHT
END:VTIMEZONE
BEGIN:VEVENT
UID:71529ffd-3e0a-490e-ab0a-e7d2fff8dc2c
DTSTAMP:20260420T005101Z
DESCRIPTION:These League Water Operator's Training Workshops are designed f
 or all water and wastewater operators who are dedicated to the water indus
 try by keeping in stride with the latest in water/wastewater industry regu
 lations and technology. We also would encourage attendance of all city off
 icials such as city council members\, board members\, superintendents\, et
 c.\, in order to gain further knowledge about the rapidly changing industr
 y. \n\nCredit toward recertification for Grades 1-4 water operators – 5 ho
 urs\, Grade 6 operators – 1 hour and wastewater operators – 5 hours for at
 tending a day-long seminar.\n\nRegistration and Fees\n\nParticipants are w
 elcome to register and pay online before attending the workshop. Fees for 
 the workshops are $55 per person\, which includes lunch and learning  mate
 rials.
DTSTART;TZID=America/Chicago:20221207T083000
DTEND;TZID=America/Chicago:20221207T151000
LOCATION:Lincoln Water Dept. Facility - 2021 N 27th Street
SUMMARY:Water Operator Training Workshop - Lincoln
END:VEVENT
END:VCALENDAR
